BEGIN:VCALENDAR
VERSION:2.0
PRODID:-//wp-events-plugin.com//7.2.2.1//EN
TZID:Asia/Tokyo
X-WR-TIMEZONE:Asia/Tokyo
BEGIN:VEVENT
UID:11@saihaty.com
DTSTART;TZID=Asia/Tokyo:20240119T130000
DTEND;TZID=Asia/Tokyo:20240119T140000
DTSTAMP:20240118T074342Z
URL:https://saihaty.com/events/1-19%e9%87%911300%e3%83%88%e3%83%ac%e3%83%b
 c%e3%83%8a%e3%83%bc%e3%82%ba%e3%83%aa%e3%83%bc%e3%82%b0-%e3%83%9d%e3%82%b1
 %e3%83%a2%e3%83%b3%e3%82%ab%e3%83%bc%e3%83%89%e3%82%b2%e3%83%bc%e3%83%a0/
SUMMARY:1/19(金)13:00~トレーナーズリーグ ポケモンカードゲ
 ーム
DESCRIPTION:1/19(金)13:00~トレーナーズリーグ ポケモンカー
 ドゲーム\n\n&nbsp\;\n\nhttps://www.pokemon-card.com/info/2018/20180126
 _001073.html\n\n[blogcard url=”●●●●●″]\n\nhttps://www.pokemo
 n-card.com/info/2018/20180126_001073.html
ATTACH;FMTTYPE=image/jpeg:https://saihaty.com/wp-content/uploads/2024/01/t
 rainersleague.png
CATEGORIES:ポケモンカード
END:VEVENT
BEGIN:VTIMEZONE
TZID:Asia/Tokyo
X-LIC-LOCATION:Asia/Tokyo
BEGIN:STANDARD
DTSTART:20230119T130000
TZOFFSETFROM:+0900
TZOFFSETTO:+0900
TZNAME:JST
END:STANDARD
END:VTIMEZONE
END:VCALENDAR