BEGIN:VCALENDAR
VERSION:2.0
PRODID:-//wp-events-plugin.com//7.2.2.1//EN
TZID:Asia/Tokyo
X-WR-TIMEZONE:Asia/Tokyo
BEGIN:VEVENT
UID:4@saihaty.com
DTSTART;TZID=Asia/Tokyo:20240119T150000
DTEND;TZID=Asia/Tokyo:20240119T160000
DTSTAMP:20240119T002712Z
URL:https://saihaty.com/events/1-19%e9%87%911500%e3%83%af%e3%83%b3%e3%83%9
 4%e3%83%bc%e3%82%b9-%e3%82%b9%e3%82%bf%e3%83%b3%e3%83%80%e3%83%bc%e3%83%89
 %e3%83%90%e3%83%88%e3%83%ab-2/
SUMMARY:1/19(金)15:00~ワンピース スタンダードバトル
DESCRIPTION:1/19(金)15:00~ワンピース スタンダードバトル\n\n
 参加予約は↓こちら↓からお願いします\n\n[blogcard url="h
 ttps://lp.bandai-tcg-plus.com/"]\n\n[blogcard url="https://www.onepiece-ca
 rdgame.com/events/officialevents/standardbattle/"]\n\nhttps://lp.bandai-tc
 g-plus.com/\n\nhttps://www.onepiece-cardgame.com/events/officialevents/sta
 ndardbattle/
ATTACH;FMTTYPE=image/jpeg:https://saihaty.com/wp-content/uploads/2023/12/O
 P0012.png
CATEGORIES:ワンピースカード
END:VEVENT
BEGIN:VTIMEZONE
TZID:Asia/Tokyo
X-LIC-LOCATION:Asia/Tokyo
BEGIN:STANDARD
DTSTART:20230119T150000
TZOFFSETFROM:+0900
TZOFFSETTO:+0900
TZNAME:JST
END:STANDARD
END:VTIMEZONE
END:VCALENDAR