BEGIN:VCALENDAR
VERSION:2.0
PRODID:-//wp-events-plugin.com//7.2.2.1//EN
TZID:Asia/Tokyo
X-WR-TIMEZONE:Asia/Tokyo
BEGIN:VEVENT
UID:10@saihaty.com
DTSTART;TZID=Asia/Tokyo:20240120T130000
DTEND;TZID=Asia/Tokyo:20240120T130000
DTSTAMP:20240119T181403Z
URL:https://saihaty.com/events/1-20%e5%9c%9f1300%e3%82%a8%e3%82%af%e3%82%b
 9%e3%83%88%e3%83%a9%e3%83%90%e3%83%88%e3%83%ab%e3%81%ae%e6%97%a5-%e3%83%9d
 %e3%82%b1%e3%83%a2%e3%83%b3%e3%82%ab%e3%83%bc%e3%83%89%e3%82%b2%e3%83%bc/
SUMMARY:1/20(土)13:00~エクストラバトルの日 ポケモンカード
 ゲーム
DESCRIPTION:1時:ポケカエクストラバトルの日\n\n\n\n2024年1月
 20日(土) 13:00~エクストラバトル ポケモンカードゲーム\n
 [blogcard url="https://www.pokemon-card.com/info/004249.html"]\n[blogcard 
 url="https://www.pokemon-card.com/rules/regulation/"]\n&nbsp\;\n[blogcard 
 url="https://www.pokemon-card.com/event/pokemon_card_gym.html"]\nhttps://w
 ww.pokemon-card.com/info/004249.html\n\n\n\n\n\nhttps://www.pokemon-card.c
 om/event/pokemon_card_gym.html\nhttps://www.pokemon-card.com/rules/regulat
 ion/\n\n\n
ATTACH;FMTTYPE=image/jpeg:https://saihaty.com/wp-content/uploads/2023/12/t
 hum61.jpg
CATEGORIES:ポケモンカード
END:VEVENT
BEGIN:VTIMEZONE
TZID:Asia/Tokyo
X-LIC-LOCATION:Asia/Tokyo
BEGIN:STANDARD
DTSTART:20230120T130000
TZOFFSETFROM:+0900
TZOFFSETTO:+0900
TZNAME:JST
END:STANDARD
END:VTIMEZONE
END:VCALENDAR