BEGIN:VCALENDAR
VERSION:2.0
PRODID:-//wp-events-plugin.com//7.2.2.1//EN
TZID:Asia/Tokyo
X-WR-TIMEZONE:Asia/Tokyo
BEGIN:VEVENT
UID:9@saihaty.com
DTSTART;TZID=Asia/Tokyo:20240120T150000
DTEND;TZID=Asia/Tokyo:20240120T150000
DTSTAMP:20240119T003222Z
URL:https://saihaty.com/events/1-20%e5%9c%9f1500one-piece%e3%82%ab%e3%83%b
 c%e3%83%89%e3%82%b2%e3%83%bc%e3%83%a0%e4%ba%a4%e6%b5%81%e4%bc%9a/
SUMMARY:1/20(土)15:00~ONE PIECEカードゲーム交流会
DESCRIPTION:1/20(土)15:00~ONE PIECEカードゲーム交流会\n\n参加
 予約は↓こちら↓からお願いします\n\n[blogcard url="https:/
 /lp.bandai-tcg-plus.com/"]\n\n[blogcard url="https://www.onepiece-cardgame
 .com/events/officialevents/meetup/"]\n\n&nbsp\;\n\nhttps://lp.bandai-tcg-p
 lus.com/\n\nhttps://www.onepiece-cardgame.com/events/officialevents/meetup
 /
ATTACH;FMTTYPE=image/jpeg:https://saihaty.com/wp-content/uploads/2023/12/s
 hindanbattle02.png
CATEGORIES:ワンピースカード
END:VEVENT
BEGIN:VTIMEZONE
TZID:Asia/Tokyo
X-LIC-LOCATION:Asia/Tokyo
BEGIN:STANDARD
DTSTART:20230120T150000
TZOFFSETFROM:+0900
TZOFFSETTO:+0900
TZNAME:JST
END:STANDARD
END:VTIMEZONE
END:VCALENDAR