BEGIN:VCALENDAR
VERSION:2.0
PRODID:-//wp-events-plugin.com//7.2.2.1//EN
TZID:Asia/Tokyo
X-WR-TIMEZONE:Asia/Tokyo
BEGIN:VEVENT
UID:13@saihaty.com
DTSTART;TZID=Asia/Tokyo:20240126T130000
DTEND;TZID=Asia/Tokyo:20240126T140000
DTSTAMP:20240118T025328Z
URL:https://saihaty.com/events/1-26%e9%87%911300%e3%83%86%e3%83%a9%e3%82%b
 9%e3%82%bf%e3%83%ab%e3%83%90%e3%83%88%e3%83%ab-%e3%83%9d%e3%82%b1%e3%83%a2
 %e3%83%b3%e3%82%ab%e3%83%bc%e3%83%89%e3%82%b2%e3%83%bc%e3%83%a0/
SUMMARY:1/26(金)13:00~テラスタルバトル ポケモンカードゲー
 ム
DESCRIPTION:1/26(金)13:00~テラスタルバトル ポケモンカード
 ゲーム\n\n&nbsp\;\n\nhttps://www.pokemon-card.com/info/004217.html
ATTACH;FMTTYPE=image/jpeg:https://saihaty.com/wp-content/uploads/2023/12/0
 04217_11.png
CATEGORIES:ポケモンカード
END:VEVENT
BEGIN:VTIMEZONE
TZID:Asia/Tokyo
X-LIC-LOCATION:Asia/Tokyo
BEGIN:STANDARD
DTSTART:20230126T130000
TZOFFSETFROM:+0900
TZOFFSETTO:+0900
TZNAME:JST
END:STANDARD
END:VTIMEZONE
END:VCALENDAR