BEGIN:VCALENDAR
VERSION:2.0
PRODID:-//wp-events-plugin.com//7.2.2.1//EN
TZID:Asia/Tokyo
X-WR-TIMEZONE:Asia/Tokyo
BEGIN:VEVENT
UID:30@saihaty.com
DTSTART;TZID=Asia/Tokyo:20240210T130000
DTEND;TZID=Asia/Tokyo:20240210T140000
DTSTAMP:20240202T005134Z
URL:https://saihaty.com/events/2-10%e5%9c%9f1300%e3%83%af%e3%83%b3%e3%83%9
 4%e3%83%bc%e3%82%b9-%e3%82%b9%e3%82%bf%e3%83%b3%e3%83%80%e3%83%bc%e3%83%89
 %e3%83%90%e3%83%88%e3%83%ab%ef%bc%8f%e4%ba%a4%e6%b5%81%e4%bc%9a/
SUMMARY:2/10(土)13:00~ワンピース スタンダードバトル／交流
 会
DESCRIPTION:2/10(土)13:00~ワンピース スタンダードバトル／
 交流会\n\n参加予約は↓こちら↓からお願いします\n\n&nb
 sp\;\n\n[blogcard url="https://lp.bandai-tcg-plus.com/"]\n\n[blogcard url=
 "https://www.onepiece-cardgame.com/events/officialevents/standardbattle/"]
 \n\n[blogcard url="https://www.onepiece-cardgame.com/events/officialevents
 /meetup/"]\n\n※キャンセル歴のあるかたは当選確率が低下
 します※\n\n&nbsp\;
ATTACH;FMTTYPE=image/jpeg:https://saihaty.com/wp-content/uploads/2024/02/O
 P012.png
CATEGORIES:ワンピースカード
END:VEVENT
BEGIN:VTIMEZONE
TZID:Asia/Tokyo
X-LIC-LOCATION:Asia/Tokyo
BEGIN:STANDARD
DTSTART:20230210T130000
TZOFFSETFROM:+0900
TZOFFSETTO:+0900
TZNAME:JST
END:STANDARD
END:VTIMEZONE
END:VCALENDAR