BEGIN:VCALENDAR
VERSION:2.0
PRODID:-//wp-events-plugin.com//7.2.2.1//EN
TZID:Asia/Tokyo
X-WR-TIMEZONE:Asia/Tokyo
BEGIN:VEVENT
UID:32@saihaty.com
DTSTART;TZID=Asia/Tokyo:20240210T140000
DTEND;TZID=Asia/Tokyo:20240210T150000
DTSTAMP:20240202T014539Z
URL:https://saihaty.com/events/2-10%e5%9c%9f1400%e6%96%b0%e5%bc%be%e3%83%9
 0%e3%83%88%e3%83%ab%ef%bc%88%e5%b0%8f%e5%ad%a6%e7%94%9f%e4%bb%a5%e4%b8%8b%
 ef%bc%89-%e3%83%9d%e3%82%b1%e3%83%a2%e3%83%b3%e3%82%ab%e3%83%bc%e3%83%89/
SUMMARY:2/10(土)14:00~新弾バトル（小学生以下） ポケモンカ
 ードゲーム
DESCRIPTION:2/10(土)14:00~新弾バトル（小学生以下） ポケモ
 ンカードゲーム\n\n公式上参加費200円でお知らせしてい
 るポケカイベントについて、事前にご購入いただいた
 お客様には500円毎に参加権をお渡しすることが可能で
 す。\n\n小学生限定で100円で1個押せる紙のスタンプカー
 ドをお渡しできます。スタンプ5個を消費することで1イ
 ベント参加費無料でご参加いただくことが可能です。
 ←＋同伴者用にも使えます。利用されたい方は必ずお
 客様からお申し出ください。後出しNG。\n\n小学生以下
 のお子様にポケモンバトルの楽しさを味わって欲しい
 ので、定員に満たない場合に限り全参加者のご了解を
 得れれば中学生以上でもご参加をお願いする場合がご
 ざいます。\n\n[blogcard url="https://www.pokemon-card.com/event/pokem
 on_card_gym.html"]\n\nhttps://www.pokemon-card.com/event/pokemon_card_gym.
 html\n\n※基本的に定員の半数を当システムを使って予約
 をお受けする形としています。当システムを利用でき
 ないお子様などに対して商品ご購入時にご招待をお約
 束している場合がございます。お子様の笑顔が好きで
 おもちゃ屋をしているのですが、続けるには家賃.光熱
 費.人件費など要るので商品購入協力をお願いいたしま
 すm(__)m
ATTACH;FMTTYPE=image/jpeg:https://saihaty.com/wp-content/uploads/2024/02/p
 oke-02.png
CATEGORIES:ポケモンカード
END:VEVENT
BEGIN:VTIMEZONE
TZID:Asia/Tokyo
X-LIC-LOCATION:Asia/Tokyo
BEGIN:STANDARD
DTSTART:20230210T140000
TZOFFSETFROM:+0900
TZOFFSETTO:+0900
TZNAME:JST
END:STANDARD
END:VTIMEZONE
END:VCALENDAR