BEGIN:VCALENDAR
VERSION:2.0
PRODID:-//wp-events-plugin.com//7.2.2.1//EN
TZID:Asia/Tokyo
X-WR-TIMEZONE:Asia/Tokyo
BEGIN:VEVENT
UID:58@saihaty.com
DTSTART;TZID=Asia/Tokyo:20240222T150000
DTEND;TZID=Asia/Tokyo:20240222T160000
DTSTAMP:20240213T143209Z
URL:https://saihaty.com/events/2-22%e6%9c%a81500%e3%82%a8%e3%82%af%e3%82%b
 9%e3%83%88%e3%83%a9%e3%83%90%e3%83%88%e3%83%ab%e3%81%ae%e6%97%a5-%e3%83%9d
 %e3%82%b1%e3%83%a2%e3%83%b3%e3%82%ab%e3%83%bc%e3%83%89%e3%82%b2%e3%83%bc/
SUMMARY:2/22(木)15:00~エクストラバトルの日 ポケモンカード
 ゲーム
DESCRIPTION:2/22(木)15:00~エクストラバトルの日 ポケモンカ
 ードゲーム\n[blogcard url="https://www.pokemon-card.com/info/004249.h
 tml"]\n[blogcard url="https://www.pokemon-card.com/rules/regulation/"]\n[b
 logcard url="https://www.pokemon-card.com/event/pokemon_card_gym.html"]\n
 ※基本的に定員の半数を当システムを使って予約をお
 受けする形としています。当システムを利用できない
 お子様などに対して商品ご購入時にご招待をお約束し
 ている場合がございます。お子様の笑顔が好きでおも
 ちゃ屋をしているのですが、続けるには家賃.光熱費.人
 件費など要るので商品購入協力をお願いいたしますm(__)
 m\nhttps://www.pokemon-card.com/info/004249.html\n\n\n\n\n\nhttps://www.po
 kemon-card.com/event/pokemon_card_gym.html\nhttps://www.pokemon-card.com/r
 ules/regulation/\n\n\n
ATTACH;FMTTYPE=image/jpeg:https://saihaty.com/wp-content/uploads/2024/02/p
 oke-05.png
CATEGORIES:ポケモンカード
END:VEVENT
BEGIN:VTIMEZONE
TZID:Asia/Tokyo
X-LIC-LOCATION:Asia/Tokyo
BEGIN:STANDARD
DTSTART:20230222T150000
TZOFFSETFROM:+0900
TZOFFSETTO:+0900
TZNAME:JST
END:STANDARD
END:VTIMEZONE
END:VCALENDAR