BEGIN:VCALENDAR
VERSION:2.0
PRODID:-//wp-events-plugin.com//7.2.2.1//EN
TZID:Asia/Tokyo
X-WR-TIMEZONE:Asia/Tokyo
BEGIN:VEVENT
UID:62@saihaty.com
DTSTART;TZID=Asia/Tokyo:20240224T130000
DTEND;TZID=Asia/Tokyo:20240224T140000
DTSTAMP:20240213T142405Z
URL:https://saihaty.com/events/2-24%e5%9c%9f1300%e3%83%89%e3%83%a9%e3%82%b
 4%e3%83%b3%e3%83%9c%e3%83%bc%e3%83%abscgfw%e3%82%b7%e3%83%a7%e3%83%83%e3%8
 3%97%e3%83%90%e3%83%88%e3%83%ab%ef%bc%8f%e4%ba%a4%e6%b5%81%e4%bc%9a/
SUMMARY:2/24(土)13:00~ドラゴンボールSCGFWショップバトル／
 交流会
DESCRIPTION:2/24(土)13:00~ドラゴンボールSCGFWショップバトル
 ／交流会\n\n参加予約は↓こちら↓からお願いします\n\n
 [blogcard url="https://lp.bandai-tcg-plus.com/"]\n\n[blogcard url="https:/
 /www.dbs-cardgame.com/fw/jp/events/01_7.html"]\n\n[blogcard url="https://w
 ww.dbs-cardgame.com/fw/jp/events/01_6.html"]\n\n※キャンセル歴の
 あるかたは当選確率が低下します※\n\n&nbsp\;
ATTACH;FMTTYPE=image/jpeg:https://saihaty.com/wp-content/uploads/2024/02/D
 B012.png
CATEGORIES:ドラゴンボールSCGFW
END:VEVENT
BEGIN:VTIMEZONE
TZID:Asia/Tokyo
X-LIC-LOCATION:Asia/Tokyo
BEGIN:STANDARD
DTSTART:20230224T130000
TZOFFSETFROM:+0900
TZOFFSETTO:+0900
TZNAME:JST
END:STANDARD
END:VTIMEZONE
END:VCALENDAR