BEGIN:VCALENDAR
VERSION:2.0
PRODID:-//wp-events-plugin.com//7.2.2.1//EN
TZID:Asia/Tokyo
X-WR-TIMEZONE:Asia/Tokyo
BEGIN:VEVENT
UID:37@saihaty.com
DTSTART;TZID=Asia/Tokyo:20240224T150000
DTEND;TZID=Asia/Tokyo:20240224T160000
DTSTAMP:20240213T143426Z
URL:https://saihaty.com/events/2-24%e5%9c%9f1500%e3%83%86%e3%83%a9%e3%82%b
 9%e3%82%bf%e3%83%ab%e3%83%90%e3%83%88%e3%83%ab-%e3%83%9d%e3%82%b1%e3%83%a2
 %e3%83%b3%e3%82%ab%e3%83%bc%e3%83%89%e3%82%b2%e3%83%bc%e3%83%a0/
SUMMARY:2/24(土)15:00~テラスタルバトル ポケモンカードゲー
 ム
DESCRIPTION:2/24(土)15:00~テラスタルバトル ポケモンカード
 ゲーム\n\n公式上参加費200円でお知らせしているポケカ
 イベントについて、事前にご購入いただいたお客様に
 は500円毎に参加権をお渡しすることが可能です。\n\n小
 学生限定で100円で1個押せる紙のスタンプカードをお渡
 しできます。スタンプ5個を消費することで1イベント参
 加費無料でご参加いただくことが可能です。←＋同伴
 者用にも使えます。利用されたい方は必ずお客様から
 お申し出ください。後出しNG。\n\n[blogcard url="https://www.po
 kemon-card.com/info/004217.html"]\n\nhttps://www.pokemon-card.com/info/004
 217.html\n\n※基本的に定員の半数を当システムを使って
 予約をお受けする形としています。当システムを利用
 できないお子様などに対して商品ご購入時にご招待を
 お約束している場合がございます。お子様の笑顔が好
 きでおもちゃ屋をしているのですが、続けるには家賃.
 光熱費.人件費など要るので商品購入協力をお願いいた
 しますm(__)m
ATTACH;FMTTYPE=image/jpeg:https://saihaty.com/wp-content/uploads/2024/02/p
 oke-03.png
CATEGORIES:ポケモンカード
END:VEVENT
BEGIN:VTIMEZONE
TZID:Asia/Tokyo
X-LIC-LOCATION:Asia/Tokyo
BEGIN:STANDARD
DTSTART:20230224T150000
TZOFFSETFROM:+0900
TZOFFSETTO:+0900
TZNAME:JST
END:STANDARD
END:VTIMEZONE
END:VCALENDAR