BEGIN:VCALENDAR
VERSION:2.0
PRODID:-//wp-events-plugin.com//7.2.2.1//EN
TZID:Asia/Tokyo
X-WR-TIMEZONE:Asia/Tokyo
BEGIN:VEVENT
UID:49@saihaty.com
DTSTART;TZID=Asia/Tokyo:20240224T163000
DTEND;TZID=Asia/Tokyo:20240224T173000
DTSTAMP:20240213T143501Z
URL:https://saihaty.com/events/2-24%e5%9c%9f1630%e3%83%87%e3%83%a5%e3%82%a
 8%e3%83%9e%e3%83%95%e3%82%a7%e3%82%b9%ef%bc%88%e3%82%aa%e3%83%aa%e3%82%b8%
 e3%83%8a%e3%83%ab%ef%bc%89%e3%83%87%e3%83%a5%e3%82%a8%e3%83%ab%e3%83%9e/
SUMMARY:2/24(土)16:30~デュエマフェス（オリジナル）デュエ
 ルマスターズ
DESCRIPTION:2/24(土)16:30~デュエマフェス（オリジナル）デュ
 エルマスターズ\n\nご来店くださったらわかると思いま
 すが、狭いおもちゃ屋なので循環を良くする為に他の
 イベント時も参加費や購入条件を設けさせていただい
 ております。当イベントにご参加される場合も500円以
 上ご購入いただくか参加費200円をお納めくださいます
 ようご協力お願いいたします。事前にご購入いただい
 たお客様には500円毎に参加権をお渡しすることが可能
 です。小学生限定で100円で1個押せる紙のスタンプカー
 ドをお渡しできます。スタンプ5個を消費することで1イ
 ベント参加費無料でご参加いただくことが可能です。
 ←＋同伴者用にも使えます。利用されたい方は必ずお
 客様からお申し出ください。後出しNG。\n\nhttps://dm.takara
 tomy.co.jp/event/authorized/\n\n\n\n※基本的に定員の半数を当
 システムを使って予約をお受けする形としています。
 当システムを利用できないお子様などに対して商品ご
 購入時にご招待をお約束している場合がございます。
 お子様の笑顔が好きでおもちゃ屋をしているのですが
 、続けるには家賃.光熱費.人件費など要るので商品購入
 協力をお願いいたしますm(__)m
ATTACH;FMTTYPE=image/jpeg:https://saihaty.com/wp-content/uploads/2023/12/2
 5d8d90bd00e032bb018da270c109f8a.png
CATEGORIES:デュエル・マスターズ
END:VEVENT
BEGIN:VTIMEZONE
TZID:Asia/Tokyo
X-LIC-LOCATION:Asia/Tokyo
BEGIN:STANDARD
DTSTART:20230224T163000
TZOFFSETFROM:+0900
TZOFFSETTO:+0900
TZNAME:JST
END:STANDARD
END:VTIMEZONE
END:VCALENDAR