BEGIN:VCALENDAR
VERSION:2.0
PRODID:-//wp-events-plugin.com//7.2.2.1//EN
TZID:Asia/Tokyo
X-WR-TIMEZONE:Asia/Tokyo
BEGIN:VEVENT
UID:55@saihaty.com
DTSTART;TZID=Asia/Tokyo:20240209T140000
DTEND;TZID=Asia/Tokyo:20240209T150000
DTSTAMP:20240203T020200Z
URL:https://saihaty.com/events/2-9%e9%87%911400%e3%83%87%e3%83%83%e3%82%ad
 %e3%81%9d%e3%81%ae%e3%81%be%e3%81%be%e3%83%90%e3%83%88%e3%83%ab%e3%82%a4%e
 3%83%bc%e3%83%96%e3%82%a4%e3%82%b2%e3%83%83%e3%83%88-%e3%83%9d%e3%82%b1/
SUMMARY:2/9(金)14:00~デッキそのままバトル~イーブイゲット~
  ポケモンカードゲーム
DESCRIPTION:2/9(金)14:00~デッキそのままバトル~イーブイゲッ
 ト~ ポケモンカードゲーム\n\n公式上参加費200円でお知
 らせしているポケカイベントについて、事前にご購入
 いただいたお客様には500円毎に参加権をお渡しするこ
 とが可能です。\n\n小学生限定で100円で1個押せる紙のス
 タンプカードをお渡しできます。スタンプ5個を消費す
 ることで1イベント参加費無料でご参加いただくことが
 可能です。←＋同伴者用にも使えます。利用されたい
 方は必ずお客様からお申し出ください。後出しNG。\n\n\n
 \n[blogcard url="https://www.pokemon-card.com/info/003793.html"]\n\nhttps:
 //www.pokemon-card.com/info/003793.html\n\n※基本的に定員の半数
 を当システムを使って予約をお受けする形としていま
 す。当システムを利用できないお子様などに対して商
 品ご購入時にご招待をお約束している場合がございま
 す。お子様の笑顔が好きでおもちゃ屋をしているので
 すが、続けるには家賃.光熱費.人件費など要るので商品
 購入協力をお願いいたしますm(__)m
ATTACH;FMTTYPE=image/jpeg:https://saihaty.com/wp-content/uploads/2024/02/p
 oke-04.png
CATEGORIES:ポケモンカード
END:VEVENT
BEGIN:VTIMEZONE
TZID:Asia/Tokyo
X-LIC-LOCATION:Asia/Tokyo
BEGIN:STANDARD
DTSTART:20230209T140000
TZOFFSETFROM:+0900
TZOFFSETTO:+0900
TZNAME:JST
END:STANDARD
END:VTIMEZONE
END:VCALENDAR