BEGIN:VCALENDAR
VERSION:2.0
PRODID:-//wp-events-plugin.com//7.2.2.1//EN
TZID:Asia/Tokyo
X-WR-TIMEZONE:Asia/Tokyo
BEGIN:VEVENT
UID:39@saihaty.com
DTSTART;TZID=Asia/Tokyo:20240209T160000
DTEND;TZID=Asia/Tokyo:20240209T170000
DTSTAMP:20240202T021842Z
URL:https://saihaty.com/events/2-9%e9%87%911600%e6%96%b0%e5%bc%be%e3%83%90
 %e3%83%88%e3%83%ab-%e3%83%9d%e3%82%b1%e3%83%a2%e3%83%b3%e3%82%ab%e3%83%bc%
 e3%83%89%e3%82%b2%e3%83%bc%e3%83%a0/
SUMMARY:2/9(金)16:00~新弾バトル ポケモンカードゲーム
DESCRIPTION:2/9(金)16:00~新弾バトル ポケモンカードゲーム\n\
 n※前後イベントの進行具合等で開始時間が30分程度早
 く(午後3時半位～)になる可能性があります。\n\n公式上
 参加費200円でお知らせしているポケカイベントについ
 て、事前にご購入いただいたお客様には500円毎に参加
 権をお渡しすることが可能です。\n\n小学生限定で100円
 で1個押せる紙のスタンプカードをお渡しできます。ス
 タンプ5個を消費することで1イベント参加費無料でご参
 加いただくことが可能です。←＋同伴者用にも使えま
 す。利用されたい方は必ずお客様からお申し出くださ
 い。後出しNG。\n\n[blogcard url="https://www.pokemon-card.com/event/
 pokemon_card_gym.html"]\n\nhttps://www.pokemon-card.com/event/pokemon_card
 _gym.html\n\n※基本的に定員の半数を当システムを使って
 予約をお受けする形としています。当システムを利用
 できないお子様などに対して商品ご購入時にご招待を
 お約束している場合がございます。お子様の笑顔が好
 きでおもちゃ屋をしているのですが、続けるには家賃.
 光熱費.人件費など要るので商品購入協力をお願いいた
 しますm(__)m
ATTACH;FMTTYPE=image/jpeg:https://saihaty.com/wp-content/uploads/2024/02/p
 oke-02.png
CATEGORIES:ポケモンカード
END:VEVENT
BEGIN:VTIMEZONE
TZID:Asia/Tokyo
X-LIC-LOCATION:Asia/Tokyo
BEGIN:STANDARD
DTSTART:20230209T160000
TZOFFSETFROM:+0900
TZOFFSETTO:+0900
TZNAME:JST
END:STANDARD
END:VTIMEZONE
END:VCALENDAR