BEGIN:VCALENDAR
VERSION:2.0
PRODID:-//wp-events-plugin.com//7.2.2.1//EN
TZID:Asia/Tokyo
X-WR-TIMEZONE:Asia/Tokyo
BEGIN:VEVENT
UID:110@saihaty.com
DTSTART;TZID=Asia/Tokyo:20240315T180000
DTEND;TZID=Asia/Tokyo:20240315T190000
DTSTAMP:20240311T010627Z
URL:https://saihaty.com/events/3-15%e9%87%911800%e3%83%87%e3%83%a5%e3%82%a
 8%e3%83%9e%e3%83%97%e3%83%ac%e3%82%a4%e3%82%b9%e3%82%b3%e3%83%a9%e3%83%9c%
 e8%a8%98%e5%bf%b5-%e3%82%a6%e3%82%a3%e3%82%af%e3%83%ad%e3%82%b9%e3%81%b0/
SUMMARY:3/15(金)18:00~デュエマプレイスコラボ記念 ウィクロ
 スばとる～対戦会
DESCRIPTION:[デュエル・マスターズプレイス]コラボ記念　
 ウィクロスばとる～対戦会\n開始日時について、他イベ
 ントの具合などで変更になる場合がございます。申請
 後の変更は公式サイトで反映されないケースが多いの
 で、必ず当ページ等saihaty.comの内容をご確認ください。
 (当イベントの場合17時スタートで申請しましたがその
 後の動向から18時を開始予定時間に変更しています。)[b
 logcard url="https://www.takaratomy.co.jp/products/wixoss/event/event_list
 ?event_slug=%27monthevent_2403%27&amp\;pref=%E5%85%B5%E5%BA%AB%E7%9C%8C&am
 p\;event_title=%E3%83%87%E3%83%A5%E3%82%A8%E3%83%AB%E3%83%BB%E3%83%9E%E3%8
 2%B9%E3%82%BF%E3%83%BC%E3%82%BA%E3%83%97%E3%83%AC%E3%82%A4%E3%82%B9%20%E3%
 82%B3%E3%83%A9%E3%83%9C%E8%A8%98%E5%BF%B5%20%E3%82%A6%E3%82%A3%E3%82%AF%E3
 %83%AD%E3%82%B9%E3%81%B0%E3%81%A8%E3%82%8B%EF%BD%9E%E5%AF%BE%E6%88%A6%E4%B
 C%9A"]\n\nウィクロス商品を沢山ご購入くださったお客様
 へのお礼の気持ちを込めてイベント申請しています。
 当店により利益をもたらせてくださるお得意様方の状
 況に応じてイベント申請回数や実施日時に変動があり
 ます。店舗維持の為ですので、ご理解ご協力いただき
 ますようお願い申し上げます。\n\n[blogcard url="https://www.t
 akaratomy.co.jp/products/wixoss/event/240219_02/"]\n\n&nbsp\;\n\n※当イ
 ベントの参加者は新規青年メインだと思うのでWEB予約
 枠を100％に変更しました(20240311時点で残6席)※基本的に
 定員の半数を当システムを使って予約をお受けする形
 としています。当システムを利用できないお子様など
 に対して商品ご購入時にご招待をお約束している場合
 がございます。お子様の笑顔が好きでおもちゃ屋をし
 ているのですが、続けるには家賃.光熱費.人件費など要
 るので商品購入協力をお願いいたしますm(__)m
ATTACH;FMTTYPE=image/jpeg:https://saihaty.com/wp-content/uploads/2024/03/W
 X-001.png
CATEGORIES:ウィクロス
END:VEVENT
BEGIN:VTIMEZONE
TZID:Asia/Tokyo
X-LIC-LOCATION:Asia/Tokyo
BEGIN:STANDARD
DTSTART:20230316T180000
TZOFFSETFROM:+0900
TZOFFSETTO:+0900
TZNAME:JST
END:STANDARD
END:VTIMEZONE
END:VCALENDAR