BEGIN:VCALENDAR
VERSION:2.0
PRODID:-//wp-events-plugin.com//7.2.2.1//EN
TZID:Asia/Tokyo
X-WR-TIMEZONE:Asia/Tokyo
BEGIN:VEVENT
UID:72@saihaty.com
DTSTART;TZID=Asia/Tokyo:20240323T150000
DTEND;TZID=Asia/Tokyo:20240323T160000
DTSTAMP:20240320T182857Z
URL:https://saihaty.com/events/3-23%e5%9c%9f1500%e6%96%b0%e5%bc%be%e3%83%9
 0%e3%83%88%e3%83%ab-%e3%83%9d%e3%82%b1%e3%83%a2%e3%83%b3%e3%82%ab%e3%83%bc
 %e3%83%89%e3%82%b2%e3%83%bc%e3%83%a0/
SUMMARY:3/23(土)15:00~新弾バトル ポケモンカードゲーム
DESCRIPTION:3/23(土)15:00~新弾バトル ポケモンカードゲーム\n
 \n※前後イベントの進行具合等で開始時間が30分程度前
 後する可能性があります。(前がシールド戦等の特別イ
 ベントで満席の場合など本イベントが流れる可能性も
 ございます)\n\n公式上参加費200円でお知らせしているポ
 ケカイベントについて、事前にお買い上げいただいた
 お客様には500円ご購入毎に1参加権利をお渡しすること
 が可能です。\n\n小学生限定で100円で1個押せる紙のスタ
 ンプカードをお渡しできます。スタンプ5個を消費する
 ことで1イベント参加費無料でご参加いただくことが可
 能です。←＋同伴者用にも使えます。利用されたい方
 は必ずお客様からお申し出ください。後出しNG。\n\n[blog
 card url="https://www.pokemon-card.com/event/pokemon_card_gym.html"]\n\nht
 tps://www.pokemon-card.com/event/pokemon_card_gym.html\n\n※基本的に
 定員の半数を当システムを使って予約をお受けする形
 としています。当システムを利用できないお子様など
 に対して商品ご購入時にご招待をお約束している場合
 がございます。お子様の笑顔が好きでおもちゃ屋をし
 ているのですが、続けるには家賃.光熱費.人件費など要
 るので商品購入協力をお願いいたしますm(__)m\n\n読まれ
 てない方は｢TCGイベントと販売形態について(お願い)｣
 もご確認ください。
ATTACH;FMTTYPE=image/jpeg:https://saihaty.com/wp-content/uploads/2024/02/p
 oke-02.png
CATEGORIES:ポケモンカード
END:VEVENT
BEGIN:VTIMEZONE
TZID:Asia/Tokyo
X-LIC-LOCATION:Asia/Tokyo
BEGIN:STANDARD
DTSTART:20230324T150000
TZOFFSETFROM:+0900
TZOFFSETTO:+0900
TZNAME:JST
END:STANDARD
END:VTIMEZONE
END:VCALENDAR