BEGIN:VCALENDAR
VERSION:2.0
PRODID:-//wp-events-plugin.com//7.2.2.1//EN
TZID:Asia/Tokyo
X-WR-TIMEZONE:Asia/Tokyo
BEGIN:VEVENT
UID:116@saihaty.com
DTSTART;TZID=Asia/Tokyo:20240329T170000
DTEND;TZID=Asia/Tokyo:20240329T190000
DTSTAMP:20240320T182607Z
URL:https://saihaty.com/events/3-29%e9%87%911700%ef%bd%9e%e3%83%9d%e3%82%b
 1%e3%82%ab%e3%81%af%e3%81%98%e3%82%81%e3%81%a6%e6%95%99%e5%ae%a4-%e3%83%86
 %e3%82%a3%e3%83%bc%e3%83%81%e3%83%b3%e3%82%b0%e3%82%a4%e3%83%99%e3%83%b3/
SUMMARY:3/29(金)17:00～ポケカはじめて教室 ティーチングイ
 ベント ポケモンカードゲーム
DESCRIPTION:3/29(金)17:00～ポケカはじめて教室 ティーチング
 イベント ポケモンカードゲーム\n\n※[公認ジャッジオ
 ーガナイザー資格所有者様]がボランティアで実施して
 くれる有難いイベントです※\n\n※前後イベントの進行
 具合等で開始時間が30分程度前後する可能性があります
 。\n\n※ボランティアでお教えくださっておりますので
 当イベントは参加費無料でお楽しみいただけます。他
 の公認イベントは基本参加費徴収型です。\n\n公式上参
 加費200円でお知らせしているポケカイベントについて
 、事前にお買い上げいただいたお客様には500円ご購入
 毎に参加権利をお渡しすることが可能です。\n\n小学生
 限定で100円で1個押せる紙のスタンプカードをお渡しで
 きます。スタンプ5個を消費することで1イベント参加費
 無料でご参加いただくことが可能です。←＋同伴者用
 にも使えます。利用されたい方は必ずお客様からお申
 し出ください。後出しNG。\n\n[blogcard url="https://www.pokemon-
 card.com/event/pokemon_card_gym.html"]\n\nhttps://www.pokemon-card.com/eve
 nt/pokemon_card_gym.html\n\n※基本的に定員の半数を当システ
 ムを使って予約をお受けする形としています。当シス
 テムを利用できないお子様などに対して商品ご購入時
 にご招待をお約束している場合がございます。お子様
 の笑顔が好きでおもちゃ屋をしているのですが、続け
 るには家賃.光熱費.人件費など要るので商品購入協力を
 お願いいたしますm(__)m\n\n読まれてない方は｢TCGイベン
 トと販売形態について(お願い)｣もご確認ください。
ATTACH;FMTTYPE=image/jpeg:https://saihaty.com/wp-content/uploads/2024/03/
 ケ006.png
CATEGORIES:ポケモンカード
END:VEVENT
BEGIN:VTIMEZONE
TZID:Asia/Tokyo
X-LIC-LOCATION:Asia/Tokyo
BEGIN:STANDARD
DTSTART:20230330T170000
TZOFFSETFROM:+0900
TZOFFSETTO:+0900
TZNAME:JST
END:STANDARD
END:VTIMEZONE
END:VCALENDAR