BEGIN:VCALENDAR
VERSION:2.0
PRODID:-//wp-events-plugin.com//7.2.2.1//EN
TZID:Asia/Tokyo
X-WR-TIMEZONE:Asia/Tokyo
BEGIN:VEVENT
UID:90@saihaty.com
DTSTART;TZID=Asia/Tokyo:20240309T163000
DTEND;TZID=Asia/Tokyo:20240309T173000
DTSTAMP:20240228T042206Z
URL:https://saihaty.com/events/3-9%e5%9c%9f1630%e3%82%ac%e3%83%81%e3%83%87
 %e3%83%a5%e3%82%a8%e3%83%90%e3%83%88%e3%83%ab%ef%bc%88%e3%82%aa%e3%83%aa%e
 3%82%b8%e3%83%8a%e3%83%ab%ef%bc%89%e3%83%87%e3%83%a5%e3%82%a8%e3%83%ab%e3%
 83%9e/
SUMMARY:3/9(土)16:30~ガチデュエバトル（オリジナル）デュ
 エルマスターズ
DESCRIPTION:3/9(土)16:30~ガチデュエバトル（オリジナル）デ
 ュエルマスターズ\n\nご来店くださったらわかると思い
 ますが、狭いおもちゃ屋なので循環を良くする為に他
 のイベント時も参加費や購入条件を設けさせていただ
 いております。当イベントにご参加される場合も500円
 以上ご購入いただくか参加費200円をお納めくださいま
 すようご協力お願いいたします。事前にご購入いただ
 いたお客様には500円毎に参加権をお渡しすることが可
 能です。小学生限定で100円で1個押せる紙のスタンプカ
 ードをお渡しできます。スタンプ5個を消費することで1
 イベント参加費無料でご参加いただくことが可能です
 。←＋同伴者用にも使えます。利用されたい方は必ず
 お客様からお申し出ください。後出しNG。\n\n[blogcard url=
 "https://dm.takaratomy.co.jp/event/gachidhuebattle/"]\n\n\n\n※基本的
 に定員の半数を当システムを使って予約をお受けする
 形としています。当システムを利用できないお子様な
 どに対して商品ご購入時にご招待をお約束している場
 合がございます。お子様の笑顔が好きでおもちゃ屋を
 しているのですが、続けるには家賃.光熱費.人件費など
 要るので商品購入協力をお願いいたしますm(__)m
ATTACH;FMTTYPE=image/jpeg:https://saihaty.com/wp-content/uploads/2024/02/S
 creenshot-2024-02-28-at-12-58-09-ガチデュエバトル-デュエル・
 スターズ.png
CATEGORIES:デュエル・マスターズ
END:VEVENT
BEGIN:VTIMEZONE
TZID:Asia/Tokyo
X-LIC-LOCATION:Asia/Tokyo
BEGIN:STANDARD
DTSTART:20230310T163000
TZOFFSETFROM:+0900
TZOFFSETTO:+0900
TZNAME:JST
END:STANDARD
END:VTIMEZONE
END:VCALENDAR